BEGIN:VCALENDAR
VERSION:2.0
PRODID:-//Groupe IAO - ECPv6.5.0//NONSGML v1.0//EN
CALSCALE:GREGORIAN
METHOD:PUBLISH
X-WR-CALNAME:Groupe IAO
X-ORIGINAL-URL:https://www.iao-cm.org
X-WR-CALDESC:évènements pour Groupe IAO
REFRESH-INTERVAL;VALUE=DURATION:PT1H
X-Robots-Tag:noindex
X-PUBLISHED-TTL:PT1H
BEGIN:VTIMEZONE
TZID:Europe/Paris
BEGIN:DAYLIGHT
TZOFFSETFROM:+0100
TZOFFSETTO:+0200
TZNAME:CEST
DTSTART:20250330T010000
END:DAYLIGHT
BEGIN:STANDARD
TZOFFSETFROM:+0200
TZOFFSETTO:+0100
TZNAME:CET
DTSTART:20251026T010000
END:STANDARD
END:VTIMEZONE
BEGIN:VEVENT
DTSTART;VALUE=DATE:20250726
DTEND;VALUE=DATE:20250727
DTSTAMP:20260420T121048
CREATED:20250527T124543Z
LAST-MODIFIED:20250707T114426Z
UID:3860-1753488000-1753574399@www.iao-cm.org
SUMMARY:Concours d'entrée en première année au CU AGROTECH d'OBALA
DESCRIPTION:1-Cycle BTS en Agriculture et Aquaculture; 2-Cycle Licence en Industrie Agroalimentaire 3- Cycle Master en Agroalimentaire
URL:https://www.iao-cm.org/event/concours-dentree-en-premiere-annee-au-cu-agrotech-dobala/
ATTACH;FMTTYPE=image/jpeg:https://www.iao-cm.org/wp-content/uploads/2025/05/AGRO.jpg
END:VEVENT
END:VCALENDAR